BEGIN:VCALENDAR
VERSION:2.0
PRODID:-//wp-events-plugin.com//7.2.3.1//EN
TZID:Europe/Vienna
X-WR-TIMEZONE:Europe/Vienna
BEGIN:VEVENT
UID:159@letsempoweraustria.at
DTSTART;TZID=Europe/Vienna:20260429T140000
DTEND;TZID=Europe/Vienna:20260429T144000
DTSTAMP:20260423T091114Z
URL:https://letsempoweraustria.at/events/online-circle-fuer-lea-role-model
 s/
SUMMARY:Online-Circle für LEA-Role Models
DESCRIPTION:EXKLUSIV FÜR DIE LEA-ROLE MODEL COMMUNITY\n\nGender Bias und F
 eminismus\n\nWir laden dich herzlich zu unserem ersten Online-Circle e
 xklusiv für LEA-Role Models ein! Mit diesem Format möchten wir euch ei
 nladen\, eure Erfahrungen in einem geschützten Rahmen zu teilen. Ergänze
 nd dazu erhaltet ihr kurze inhaltliche Impulse\, die einen offenen und leb
 endigen Dialog miteinander anregen. In nur 40 Minuten werfen wir diesmal
  einen Blick auf die Themen Gender-Bias und Feminismus und wie beides un
 seren Alltag beeinflusst.  \n\nWas dich erwartet: \n\n 	interaktive Üb
 ungen und Impulse  \n 	LEA-Kurzinput zu Gender-Bias\, Facts und femini
 stischer Haltung \n 	Austausch in der Community \n 	Impulse für deinen
  Alltag und für dein Engagement  \n\n&nbsp\;\n\nMelde dich jetzt an und
  sei Teil unseres ersten Circles!  \n\nWir laden auch alle Role Mod
 els ein\, die bereits viel inhaltliches Wissen zu diesen Themen mitbring
 en\, denn eine diverse Community lebt vom gegenseitigen Austausch. In di
 esem Sinne: Es gibt immer neue Perspektiven zu entdecken!
ATTACH;FMTTYPE=image/jpeg:https://letsempoweraustria.at/wp-content/uploads
 /2026/04/pexels-liza-summer-6347901-scaled.jpg
LOCATION:#
END:VEVENT
BEGIN:VTIMEZONE
TZID:Europe/Vienna
X-LIC-LOCATION:Europe/Vienna
BEGIN:DAYLIGHT
DTSTART:20260329T030000
TZOFFSETFROM:+0100
TZOFFSETTO:+0200
TZNAME:CEST
END:DAYLIGHT
END:VTIMEZONE
END:VCALENDAR