BEGIN:VCALENDAR
VERSION:2.0
PRODID:-//wp-events-plugin.com//7.2.3.1//EN
TZID:Europe/Vienna
X-WR-TIMEZONE:Europe/Vienna
BEGIN:VEVENT
UID:105@letsempoweraustria.at
DTSTART;TZID=Europe/Vienna:20251113T190000
DTEND;TZID=Europe/Vienna:20251113T203000
DTSTAMP:20250925T092030Z
URL:https://letsempoweraustria.at/events/mit-kindern-ueber-geld-sprechen-7
 /
SUMMARY:Mit Kindern über Geld sprechen (Live-Online-Seminar)
DESCRIPTION:Kindern den guten Umgang mit Geld spielerisch vermitteln\n\nDie
  meisten Menschen lernen den Umgang mit Geld – wenn überhaupt – in de
 r Familie. In diesem Seminar beschäftigen wir uns daher damit\, welche Fe
 rtigkeiten für Finanzkompetenz wichtig sind\, wie man sie im Alltag vermi
 ttelt und gehen speziell auf das Thema Taschengeld ein.\n\nDieses Online-S
 eminar richtet sich v.a. an Eltern oder Bezugspersonen von Kindern zwische
 n 6 und 10 Jahren.\n\nSeminarleitung: Arian Hartwig / Three Coins\n\nHinwe
 is: Dieses Seminar wird als Live-Online-Veranstaltung abgehalten
ATTACH;FMTTYPE=image/jpeg:https://letsempoweraustria.at/wp-content/uploads
 /2023/05/5_LEA_Lesung_c_Pamela-Russmann-scaled.jpg
LOCATION:#
END:VEVENT
BEGIN:VTIMEZONE
TZID:Europe/Vienna
X-LIC-LOCATION:Europe/Vienna
BEGIN:STANDARD
DTSTART:20251026T020000
TZOFFSETFROM:+0200
TZOFFSETTO:+0100
TZNAME:CET
END:STANDARD
END:VTIMEZONE
END:VCALENDAR