BEGIN:VCALENDAR
VERSION:2.0
PRODID:-//wp-events-plugin.com//7.2.3.1//EN
TZID:Europe/Vienna
X-WR-TIMEZONE:Europe/Vienna
BEGIN:VEVENT
UID:69@letsempoweraustria.at
DTSTART;TZID=Europe/Vienna:20241205T170000
DTEND;TZID=Europe/Vienna:20241205T200000
DTSTAMP:20241107T094713Z
URL:https://letsempoweraustria.at/events/frauen-finanzen-wie-wir-stolperst
 eine-vermeiden-und-langfristige-finanzielle-entscheidungen-treffen-4/
SUMMARY:Frauen & Finanzen – Wie wir Stolpersteine vermeiden und langfrist
 ige finanzielle Entscheidungen treffen
DESCRIPTION:Frauen &amp\; Finanzen – Wie wir Stolpersteine vermeiden und 
 langfristige finanzielle Entscheidungen treffen\n\nSeminarinhalte\n\nIn di
 esem online-Seminar gehen wir auf die folgenden Themen ein:\n▪ Daten &am
 p\; Fakten zur finanziellen Situation von Frauen\n▪ Rechtliches &amp\; f
 inanzielles Basiswissen\n▪ Einnahmen-Ausgaben-Planung &amp\; eigener Umg
 ang mit Geld\n▪ Sparen\n▪ Finanzielle Stolpersteine in Frauenbiografie
 n\n▪ Langfristige finanzielle Entscheidungen\n\nSeminarleitung: Julia St
 rablegg-Muchitsch\, Schuldenberatung Steiermark
ATTACH;FMTTYPE=image/jpeg:https://letsempoweraustria.at/wp-content/uploads
 /2023/05/1L3A3276-scaled.jpg
LOCATION:#
END:VEVENT
BEGIN:VTIMEZONE
TZID:Europe/Vienna
X-LIC-LOCATION:Europe/Vienna
BEGIN:STANDARD
DTSTART:20241027T020000
TZOFFSETFROM:+0200
TZOFFSETTO:+0100
TZNAME:CET
END:STANDARD
END:VTIMEZONE
END:VCALENDAR