BEGIN:VCALENDAR
VERSION:2.0
PRODID:-//wp-events-plugin.com//7.2.3.1//EN
TZID:Europe/Vienna
X-WR-TIMEZONE:Europe/Vienna
BEGIN:VEVENT
UID:155@letsempoweraustria.at
DTSTART;TZID=Europe/Vienna:20260915T180000
DTEND;TZID=Europe/Vienna:20260915T200000
DTSTAMP:20260415T122502Z
URL:https://letsempoweraustria.at/events/anlegen-und-investieren-fuer-muet
 ter-3/
SUMMARY:Anlegen und Investieren für Mütter
DESCRIPTION:Für Mütter: (Vor)sorgend investieren und finanzielle Sicherhe
 iten schaffen\nIm Mittelpunkt dieses Seminars stehen finanzielle Vorsorge\
 , langfristige Sicherheit und strategisches Investieren für sich selbst u
 nd die Familie. Thematisiert werden die Bedeutung von regelmäßigem Spare
 n – auch mit kleinen Beträgen – sowie der frühzeitige Beginn von Vor
 sorge- und Investmentstrategien. Ein besonderer Schwerpunkt liegt auf dem 
 Vermögensaufbau für Kinder: Welche Möglichkeiten gibt es\, wie kann ein
  Depot für Kinder eröffnet werden und worauf ist dabei zu achten? Das Se
 minar vermittelt praxisnahe Ansätze\, die sich gut in den oft fordernden 
 Alltag von Müttern integrieren lassen. Das Seminar zeigt\, wie auch mit b
 egrenzten zeitlichen Ressourcen tragfähige Investmentstrategien entwickel
 t werden können.
ATTACH;FMTTYPE=image/jpeg:https://letsempoweraustria.at/wp-content/uploads
 /2026/04/pexels-ketut-subiyanto-4474030-scaled.jpg
CATEGORIES:Seminar
LOCATION:#
END:VEVENT
BEGIN:VTIMEZONE
TZID:Europe/Vienna
X-LIC-LOCATION:Europe/Vienna
BEGIN:DAYLIGHT
DTSTART:20260329T030000
TZOFFSETFROM:+0100
TZOFFSETTO:+0200
TZNAME:CEST
END:DAYLIGHT
END:VTIMEZONE
END:VCALENDAR