BEGIN:VCALENDAR
VERSION:2.0
PRODID:-//wp-events-plugin.com//7.2.3.1//EN
TZID:Europe/Vienna
X-WR-TIMEZONE:Europe/Vienna
BEGIN:VEVENT
UID:163@letsempoweraustria.at
DTSTART;TZID=Europe/Vienna:20260610T100000
DTEND;TZID=Europe/Vienna:20260610T120000
DTSTAMP:20260417T065828Z
URL:https://letsempoweraustria.at/events/anlegen-und-investieren-fuer-jung
 e-frauen-und-newbies/
SUMMARY:Anlegen und Investieren für junge Frauen und Newbies
DESCRIPTION:Von Null auf Börse leicht gemacht:\n\nDieses Seminar bietet ei
 nen verständlichen Einstieg in die Welt der Geldanlage und räumt mit gä
 ngigen Irrtümern rund um das Investieren auf – etwa der Annahme\, man m
 üsse viel Geld\, umfassende Vorerfahrung oder täglich viel Zeit mitbring
 en\, um erfolgreich anzulegen. Die Teilnehmerinnen lernen\, wie sie auch m
 it kleinen Beträgen starten können\, welche grundlegenden Anlageformen e
 s gibt und wie Risiken realistisch eingeschätzt werden. Ziel ist es\, Sic
 herheit im Umgang mit Geldanlage zu gewinnen\, Berührungsängste abzubaue
 n und mit Hilfe von Praxisbeispielen fundierte erste Investmententscheidun
 gen treffen zu können.
ATTACH;FMTTYPE=image/jpeg:https://letsempoweraustria.at/wp-content/uploads
 /2026/04/pexels-photo-8274723.jpeg
CATEGORIES:Seminar
LOCATION:#
END:VEVENT
BEGIN:VTIMEZONE
TZID:Europe/Vienna
X-LIC-LOCATION:Europe/Vienna
BEGIN:DAYLIGHT
DTSTART:20260329T030000
TZOFFSETFROM:+0100
TZOFFSETTO:+0200
TZNAME:CEST
END:DAYLIGHT
END:VTIMEZONE
END:VCALENDAR