BEGIN:VCALENDAR
VERSION:2.0
PRODID:-//wp-events-plugin.com//7.2.3.1//EN
TZID:Europe/Vienna
X-WR-TIMEZONE:Europe/Vienna
BEGIN:VEVENT
UID:156@letsempoweraustria.at
DTSTART;TZID=Europe/Vienna:20261102T090000
DTEND;TZID=Europe/Vienna:20261102T110000
DTSTAMP:20260415T122440Z
URL:https://letsempoweraustria.at/events/anlegen-und-investieren-fuer-frau
 en-50/
SUMMARY:Anlegen und Investieren für Frauen 50+
DESCRIPTION:Für Frauen 50+: Ersparnisse sinnvoll anlegen und laufende Ertr
 äge erzielen\nDieses Seminar richtet sich an Frauen\, die vorhandenes Ers
 partes gezielt investieren oder ihre Geldanlage neu strukturieren möchten
 . Behandelt wird\, wie Vermögen unter Berücksichtigung von Sicherheit\, 
 Flexibilität und individuellen Lebenssituationen angelegt werden kann. Ei
 n zentrales Thema sind regelmäßige Ausschüttungen und Einkommensstrateg
 ien\, etwa zur Ergänzung der Pension. Ziel ist es\, selbstbewusste und gu
 t informierte Entscheidungen für finanzielle Stabilität und Unabhängigk
 eit im weiteren Lebensverlauf zu ermöglichen.
ATTACH;FMTTYPE=image/jpeg:https://letsempoweraustria.at/wp-content/uploads
 /2026/04/pexels-gary-barnes-6248770-scaled.jpg
CATEGORIES:Seminar
LOCATION:#
END:VEVENT
BEGIN:VTIMEZONE
TZID:Europe/Vienna
X-LIC-LOCATION:Europe/Vienna
BEGIN:STANDARD
DTSTART:20261025T020000
TZOFFSETFROM:+0200
TZOFFSETTO:+0100
TZNAME:CET
END:STANDARD
END:VTIMEZONE
END:VCALENDAR