BEGIN:VCALENDAR
VERSION:2.0
PRODID:-//wp-events-plugin.com//7.2.3.1//EN
TZID:Europe/Vienna
X-WR-TIMEZONE:Europe/Vienna
BEGIN:VEVENT
UID:125@letsempoweraustria.at
DTSTART;TZID=Europe/Vienna:20251204T090000
DTEND;TZID=Europe/Vienna:20251204T110000
DTSTAMP:20251126T143148Z
URL:https://letsempoweraustria.at/events/anlegen-investieren-dein-einstieg
 -in-die-boersenwelt-fuer-langfristigen-vermoegensaufbau-4/
SUMMARY:Anlegen & Investieren – Dein Einstieg in die Börsenwelt... (Live
 -Online-Seminar)
DESCRIPTION:Anlegen &amp\; Investieren – Dein Einstieg in die Börsenwelt
  für langfristigen Vermögensaufbau\n\nTraditionelle Ansparformen sind se
 it Jahren für den Vermögensaufbau unattraktiv\, daher führt kein Weg an
  der Börse vorbei.\n\nIn diesem Seminar erfährst du\, wie du mit gezielt
 en Investitionen an der Börse langfristig Vermögen aufbauen kannst. Für
  ein selbstbewusstes Anlegen sind entsprechende Grundkenntnisse entscheide
 nd. Ich zeige dir\, welche Anlageformen es gibt und welche Bedeutung insbe
 sondere Aktien für den erfolgreichen Vermögensaufbau haben. Dabei lernst
  du die ersten wichtigen Schritte in die Welt der Börse kennen.\n\nIdeal 
 für Einsteigerinnen\, die ihre finanzielle Zukunft selbst bestimmen wolle
 n!\n\nSeminarleitung: Tamara Albrecht\n\nHinweis: Dieses Seminar wird als 
 Live-Online-Veranstaltung abgehalten
ATTACH;FMTTYPE=image/jpeg:https://letsempoweraustria.at/wp-content/uploads
 /2022/03/pexels-christina-morillo-1181743.jpg
LOCATION:#
END:VEVENT
BEGIN:VTIMEZONE
TZID:Europe/Vienna
X-LIC-LOCATION:Europe/Vienna
BEGIN:STANDARD
DTSTART:20251026T020000
TZOFFSETFROM:+0200
TZOFFSETTO:+0100
TZNAME:CET
END:STANDARD
END:VTIMEZONE
END:VCALENDAR